BEGIN:VCALENDAR
VERSION:2.0
PRODID:-//LEO Network//Training Calendar//EN
BEGIN:VEVENT
UID:event-2546@leo-network.com
DTSTAMP:20260423T111527Z
DTSTART:20240916T150000Z
DTEND:20240917T000000Z
SUMMARY:Caught on Camera: LE Viral Video Survival
DESCRIPTION:Law Enforcement Training
Hosted by: J Harris Academy of Police Training

View event details:
https://www.leo-network.com/event/caught-on-camera-le-viral-video-survival-saint-albans-wv-2546/
LOCATION:Saint Albans, WV
URL:https://www.leo-network.com/event/caught-on-camera-le-viral-video-survival-saint-albans-wv-2546/
END:VEVENT
END:VCALENDAR
