BEGIN:VCALENDAR
VERSION:2.0
PRODID:-//LEO Network//Training Calendar//EN
BEGIN:VEVENT
UID:event-2547@leo-network.com
DTSTAMP:20260423T100636Z
DTSTART:20240917T150000Z
DTEND:20240921T000000Z
SUMMARY:Command Series Level 1: Developing First Line Supervisors
DESCRIPTION:Law Enforcement Training
Hosted by: J Harris Academy of Police Training

View event details:
https://www.leo-network.com/event/command-series-level-1-developing-first-line-supervisors-saint-albans-wv-2547/
LOCATION:Saint Albans, WV
URL:https://www.leo-network.com/event/command-series-level-1-developing-first-line-supervisors-saint-albans-wv-2547/
END:VEVENT
END:VCALENDAR
