BEGIN:VCALENDAR
VERSION:2.0
PRODID:-//LEO Network//Training Calendar//EN
BEGIN:VEVENT
UID:event-2562@leo-network.com
DTSTAMP:20260425T112551Z
DTSTART:20231204T160000Z
DTEND:20231208T010000Z
SUMMARY:Command Series Level 1: Developing First Line Supervisors
DESCRIPTION:Law Enforcement Training
Hosted by: J Harris Academy of Police Training

View event details:
https://www.leo-network.com/event/command-series-level-1-developing-first-line-supervisors-broomall-pa-2562/
LOCATION:Broomall, PA
URL:https://www.leo-network.com/event/command-series-level-1-developing-first-line-supervisors-broomall-pa-2562/
END:VEVENT
END:VCALENDAR
