BEGIN:VCALENDAR
VERSION:2.0
PRODID:-//LEO Network//Training Calendar//EN
BEGIN:VEVENT
UID:event-2584@leo-network.com
DTSTAMP:20260424T030238Z
DTSTART:20231018T150000Z
DTEND:20231019T000000Z
SUMMARY:Smith & Wesson M&P 2.0 Armorer
DESCRIPTION:Law Enforcement Training
Hosted by: Team One Network

View event details:
https://www.leo-network.com/event/smith-wesson-m-p-2-0-armorer-santa-fe-nm-2584/
LOCATION:Santa Fe, NM
URL:https://www.leo-network.com/event/smith-wesson-m-p-2-0-armorer-santa-fe-nm-2584/
END:VEVENT
END:VCALENDAR
