BEGIN:VCALENDAR
VERSION:2.0
PRODID:-//LEO Network//Training Calendar//EN
BEGIN:VEVENT
UID:event-2585@leo-network.com
DTSTAMP:20260424T030115Z
DTSTART:20231020T150000Z
DTEND:20231021T000000Z
SUMMARY:Smith & Wesson M&P 15 Armorer
DESCRIPTION:Law Enforcement Training
Hosted by: Team One Network

View event details:
https://www.leo-network.com/event/smith-wesson-m-p-15-armorer-santa-fe-nm-2585/
LOCATION:Santa Fe, NM
URL:https://www.leo-network.com/event/smith-wesson-m-p-15-armorer-santa-fe-nm-2585/
END:VEVENT
END:VCALENDAR
