BEGIN:VCALENDAR
VERSION:2.0
PRODID:-//LEO Network//Training Calendar//EN
BEGIN:VEVENT
UID:event-2593@leo-network.com
DTSTAMP:20260421T034346Z
DTSTART:20231109T160000Z
DTEND:20231110T010000Z
SUMMARY:Smith & Wesson M&P 2.0 Armorer
DESCRIPTION:Law Enforcement Training
Hosted by: Team One Network

View event details:
https://www.leo-network.com/event/smith-wesson-m-p-2-0-armorer-lakewood-co-2593/
LOCATION:Lakewood, CO
URL:https://www.leo-network.com/event/smith-wesson-m-p-2-0-armorer-lakewood-co-2593/
END:VEVENT
END:VCALENDAR
