BEGIN:VCALENDAR
VERSION:2.0
PRODID:-//LEO Network//Training Calendar//EN
BEGIN:VEVENT
UID:event-2594@leo-network.com
DTSTAMP:20260421T003502Z
DTSTART:20231110T160000Z
DTEND:20231111T010000Z
SUMMARY:Smith & Wesson M&P 15 Armorer
DESCRIPTION:Law Enforcement Training
Hosted by: Team One Network

View event details:
https://www.leo-network.com/event/smith-wesson-m-p-15-armorer-lakewood-co-2594/
LOCATION:Lakewood, CO
URL:https://www.leo-network.com/event/smith-wesson-m-p-15-armorer-lakewood-co-2594/
END:VEVENT
END:VCALENDAR
