BEGIN:VCALENDAR
VERSION:2.0
PRODID:-//LEO Network//Training Calendar//EN
BEGIN:VEVENT
UID:event-2596@leo-network.com
DTSTAMP:20260420T190950Z
DTSTART:20231129T160000Z
DTEND:20231130T010000Z
SUMMARY:Smith & Wesson M&P 15 Armorer
DESCRIPTION:Law Enforcement Training
Hosted by: Team One Network

View event details:
https://www.leo-network.com/event/smith-wesson-m-p-15-armorer-cranford-nj-2596/
LOCATION:Cranford, NJ
URL:https://www.leo-network.com/event/smith-wesson-m-p-15-armorer-cranford-nj-2596/
END:VEVENT
END:VCALENDAR
