BEGIN:VCALENDAR
VERSION:2.0
PRODID:-//LEO Network//Training Calendar//EN
BEGIN:VEVENT
UID:event-2598@leo-network.com
DTSTAMP:20260424T075909Z
DTSTART:20230921T150000Z
DTEND:20230922T000000Z
SUMMARY:Caught on Camera: LE Viral Video Survival
DESCRIPTION:Law Enforcement Training
Hosted by: J Harris Academy of Police Training

View event details:
https://www.leo-network.com/event/caught-on-camera-le-viral-video-survival-isle-of-palms-sc-2598/
LOCATION:Isle of Palms, SC
URL:https://www.leo-network.com/event/caught-on-camera-le-viral-video-survival-isle-of-palms-sc-2598/
END:VEVENT
END:VCALENDAR
