BEGIN:VCALENDAR
VERSION:2.0
PRODID:-//LEO Network//Training Calendar//EN
BEGIN:VEVENT
UID:event-2652@leo-network.com
DTSTAMP:20260424T030020Z
DTSTART:20231204T160000Z
DTEND:20231205T010000Z
SUMMARY:From Kingpin to Educator
DESCRIPTION:Law Enforcement Training
Hosted by: Dynamic Police Training

View event details:
https://www.leo-network.com/event/from-kingpin-to-educator-santa-fe-nm-2652/
LOCATION:Santa Fe, NM
URL:https://www.leo-network.com/event/from-kingpin-to-educator-santa-fe-nm-2652/
END:VEVENT
END:VCALENDAR
