BEGIN:VCALENDAR
VERSION:2.0
PRODID:-//LEO Network//Training Calendar//EN
BEGIN:VEVENT
UID:event-2655@leo-network.com
DTSTAMP:20260420T053512Z
DTSTART:20241028T150000Z
DTEND:20241101T000000Z
SUMMARY:Command Series Level 1: Developing First Line Supervisors
DESCRIPTION:Law Enforcement Training
Hosted by: J Harris Academy of Police Training

View event details:
https://www.leo-network.com/event/command-series-level-1-developing-first-line-supervisors-hayden-id-2655/
LOCATION:Hayden, ID
URL:https://www.leo-network.com/event/command-series-level-1-developing-first-line-supervisors-hayden-id-2655/
END:VEVENT
END:VCALENDAR
