BEGIN:VCALENDAR
VERSION:2.0
PRODID:-//LEO Network//Training Calendar//EN
BEGIN:VEVENT
UID:event-2695@leo-network.com
DTSTAMP:20260421T130416Z
DTSTART:20231017T150000Z
DTEND:20231020T000000Z
SUMMARY:Cell Phone Evidence: From Seizure to Court Room
DESCRIPTION:Law Enforcement Training
Hosted by: Legal and Liability Risk Management Institute

View event details:
https://www.leo-network.com/event/cell-phone-evidence-from-seizure-to-court-room-cape-coral-fl-2695/
LOCATION:Cape Coral, FL
URL:https://www.leo-network.com/event/cell-phone-evidence-from-seizure-to-court-room-cape-coral-fl-2695/
END:VEVENT
END:VCALENDAR
