BEGIN:VCALENDAR
VERSION:2.0
PRODID:-//LEO Network//Training Calendar//EN
BEGIN:VEVENT
UID:event-270@leo-network.com
DTSTAMP:20260422T154941Z
DTSTART:20221117T160000Z
DTEND:20221119T010000Z
SUMMARY:Proactive Patrol Officer Development 
DESCRIPTION:Law Enforcement Training
Hosted by: Training Provider

View event details:
https://www.leo-network.com/event/proactive-patrol-officer-development-norman-ok-270/
LOCATION:Norman, OK
URL:https://www.leo-network.com/event/proactive-patrol-officer-development-norman-ok-270/
END:VEVENT
END:VCALENDAR
