BEGIN:VCALENDAR
VERSION:2.0
PRODID:-//LEO Network//Training Calendar//EN
BEGIN:VEVENT
UID:event-2701@leo-network.com
DTSTAMP:20260423T102538Z
DTSTART:20230919T150000Z
DTEND:20230921T000000Z
SUMMARY:Responding to Mental Health Subjects: Responses and De-escalation Strategies
DESCRIPTION:Law Enforcement Training
Hosted by: Legal and Liability Risk Management Institute

View event details:
https://www.leo-network.com/event/responding-to-mental-health-subjects-responses-and-de-escalation-strategies-stapleton-al-2701/
LOCATION:Stapleton, AL
URL:https://www.leo-network.com/event/responding-to-mental-health-subjects-responses-and-de-escalation-strategies-stapleton-al-2701/
END:VEVENT
END:VCALENDAR
