BEGIN:VCALENDAR
VERSION:2.0
PRODID:-//LEO Network//Training Calendar//EN
BEGIN:VEVENT
UID:event-2713@leo-network.com
DTSTAMP:20260423T085906Z
DTSTART:20231016T150000Z
DTEND:20231019T000000Z
SUMMARY:Interview & Interrogation for New Detectives, Criminal Investigators and 1st Responders
DESCRIPTION:Law Enforcement Training
Hosted by: Legal and Liability Risk Management Institute

View event details:
https://www.leo-network.com/event/interview-interrogation-for-new-detectives-criminal-investigators-and-1st-responders-beaumont-tx-2713/
LOCATION:Beaumont, TX
URL:https://www.leo-network.com/event/interview-interrogation-for-new-detectives-criminal-investigators-and-1st-responders-beaumont-tx-2713/
END:VEVENT
END:VCALENDAR
