BEGIN:VCALENDAR
VERSION:2.0
PRODID:-//LEO Network//Training Calendar//EN
BEGIN:VEVENT
UID:event-2721@leo-network.com
DTSTAMP:20260422T190948Z
DTSTART:20231214T160000Z
DTEND:20231215T010000Z
SUMMARY:IVORY TOWER
DESCRIPTION:Law Enforcement Training
Hosted by: Captain Tom Rizzo Presents Ivory Tower

View event details:
https://www.leo-network.com/event/ivory-tower-oklahoma-city-ok-2721/
LOCATION:Oklahoma City, OK
URL:https://www.leo-network.com/event/ivory-tower-oklahoma-city-ok-2721/
END:VEVENT
END:VCALENDAR
