BEGIN:VCALENDAR
VERSION:2.0
PRODID:-//LEO Network//Training Calendar//EN
BEGIN:VEVENT
UID:event-2730@leo-network.com
DTSTAMP:20260420T071129Z
DTSTART:20231115T160000Z
DTEND:20231117T010000Z
SUMMARY:Introduction to De-escalation for Law Enforcement
DESCRIPTION:Law Enforcement Training
Hosted by: Revelations Training & Investigations

View event details:
https://www.leo-network.com/event/introduction-to-de-escalation-for-law-enforcement-meridian-id-2730/
LOCATION:Meridian, ID
URL:https://www.leo-network.com/event/introduction-to-de-escalation-for-law-enforcement-meridian-id-2730/
END:VEVENT
END:VCALENDAR
