BEGIN:VCALENDAR
VERSION:2.0
PRODID:-//LEO Network//Training Calendar//EN
BEGIN:VEVENT
UID:event-2731@leo-network.com
DTSTAMP:20260424T182820Z
DTSTART:20230913T150000Z
DTEND:20230914T000000Z
SUMMARY:Veterans/LE Interactions - Basic (CA POST & STC)
DESCRIPTION:Law Enforcement Training
Hosted by: Secure Measures, LLC

View event details:
https://www.leo-network.com/event/veterans-le-interactions-basic-ca-post-stc-irvine-ca-2731/
LOCATION:Irvine, CA
URL:https://www.leo-network.com/event/veterans-le-interactions-basic-ca-post-stc-irvine-ca-2731/
END:VEVENT
END:VCALENDAR
