BEGIN:VCALENDAR
VERSION:2.0
PRODID:-//LEO Network//Training Calendar//EN
BEGIN:VEVENT
UID:event-2768@leo-network.com
DTSTAMP:20260420T201813Z
DTSTART:20230912T150000Z
DTEND:20230913T000000Z
SUMMARY:Bulletproof Report Writing
DESCRIPTION:Law Enforcement Training
Hosted by: Blue to Gold Training

View event details:
https://www.leo-network.com/event/bulletproof-report-writing-bel-air-md-2768/
LOCATION:Bel Air, MD
URL:https://www.leo-network.com/event/bulletproof-report-writing-bel-air-md-2768/
END:VEVENT
END:VCALENDAR
