BEGIN:VCALENDAR
VERSION:2.0
PRODID:-//LEO Network//Training Calendar//EN
BEGIN:VEVENT
UID:event-2769@leo-network.com
DTSTAMP:20260420T201655Z
DTSTART:20230913T150000Z
DTEND:20230914T000000Z
SUMMARY:Real World De-Escalation
DESCRIPTION:Law Enforcement Training
Hosted by: Blue to Gold Training

View event details:
https://www.leo-network.com/event/real-world-de-escalation-bel-air-md-2769/
LOCATION:Bel Air, MD
URL:https://www.leo-network.com/event/real-world-de-escalation-bel-air-md-2769/
END:VEVENT
END:VCALENDAR
