BEGIN:VCALENDAR
VERSION:2.0
PRODID:-//LEO Network//Training Calendar//EN
BEGIN:VEVENT
UID:event-2770@leo-network.com
DTSTAMP:20260420T203744Z
DTSTART:20230913T150000Z
DTEND:20230914T000000Z
SUMMARY:Duty to Intervene
DESCRIPTION:Law Enforcement Training
Hosted by: Blue to Gold Training

View event details:
https://www.leo-network.com/event/duty-to-intervene-bel-air-md-2770/
LOCATION:Bel Air, MD
URL:https://www.leo-network.com/event/duty-to-intervene-bel-air-md-2770/
END:VEVENT
END:VCALENDAR
