BEGIN:VCALENDAR
VERSION:2.0
PRODID:-//LEO Network//Training Calendar//EN
BEGIN:VEVENT
UID:event-2780@leo-network.com
DTSTAMP:20260421T045611Z
DTSTART:20230912T150000Z
DTEND:20230913T000000Z
SUMMARY:K9 Case Law
DESCRIPTION:Law Enforcement Training
Hosted by: Blue to Gold Training

View event details:
https://www.leo-network.com/event/k9-case-law-sterling-co-2780/
LOCATION:Sterling, CO
URL:https://www.leo-network.com/event/k9-case-law-sterling-co-2780/
END:VEVENT
END:VCALENDAR
