BEGIN:VCALENDAR
VERSION:2.0
PRODID:-//LEO Network//Training Calendar//EN
BEGIN:VEVENT
UID:event-2815@leo-network.com
DTSTAMP:20260421T015350Z
DTSTART:20231010T150000Z
DTEND:20231011T000000Z
SUMMARY:Advanced Search & Seizure
DESCRIPTION:Law Enforcement Training
Hosted by: Blue to Gold Training

View event details:
https://www.leo-network.com/event/advanced-search-seizure-camden-sc-2815/
LOCATION:Camden, SC
URL:https://www.leo-network.com/event/advanced-search-seizure-camden-sc-2815/
END:VEVENT
END:VCALENDAR
