BEGIN:VCALENDAR
VERSION:2.0
PRODID:-//LEO Network//Training Calendar//EN
BEGIN:VEVENT
UID:event-2816@leo-network.com
DTSTAMP:20260421T020131Z
DTSTART:20231011T150000Z
DTEND:20231012T000000Z
SUMMARY:Bulletproof Courtroom Testimony
DESCRIPTION:Law Enforcement Training
Hosted by: Blue to Gold Training

View event details:
https://www.leo-network.com/event/bulletproof-courtroom-testimony-camden-sc-2816/
LOCATION:Camden, SC
URL:https://www.leo-network.com/event/bulletproof-courtroom-testimony-camden-sc-2816/
END:VEVENT
END:VCALENDAR
