BEGIN:VCALENDAR
VERSION:2.0
PRODID:-//LEO Network//Training Calendar//EN
BEGIN:VEVENT
UID:event-2817@leo-network.com
DTSTAMP:20260421T014401Z
DTSTART:20231012T150000Z
DTEND:20231013T000000Z
SUMMARY: Real World De-Escalation
DESCRIPTION:Law Enforcement Training
Hosted by: Blue to Gold Training

View event details:
https://www.leo-network.com/event/real-world-de-escalation-camden-sc-2817/
LOCATION:Camden, SC
URL:https://www.leo-network.com/event/real-world-de-escalation-camden-sc-2817/
END:VEVENT
END:VCALENDAR
