BEGIN:VCALENDAR
VERSION:2.0
PRODID:-//LEO Network//Training Calendar//EN
BEGIN:VEVENT
UID:event-2818@leo-network.com
DTSTAMP:20260421T013312Z
DTSTART:20231012T150000Z
DTEND:20231013T000000Z
SUMMARY:Duty to Intervene
DESCRIPTION:Law Enforcement Training
Hosted by: Blue to Gold Training

View event details:
https://www.leo-network.com/event/duty-to-intervene-camden-sc-2818/
LOCATION:Camden, SC
URL:https://www.leo-network.com/event/duty-to-intervene-camden-sc-2818/
END:VEVENT
END:VCALENDAR
