BEGIN:VCALENDAR
VERSION:2.0
PRODID:-//LEO Network//Training Calendar//EN
BEGIN:VEVENT
UID:event-2876@leo-network.com
DTSTAMP:20260421T030442Z
DTSTART:20231107T160000Z
DTEND:20231108T010000Z
SUMMARY:Advanced Search & Seizure
DESCRIPTION:Law Enforcement Training
Hosted by: Blue to Gold Training

View event details:
https://www.leo-network.com/event/advanced-search-seizure-williamston-sc-2876/
LOCATION:Williamston, SC
URL:https://www.leo-network.com/event/advanced-search-seizure-williamston-sc-2876/
END:VEVENT
END:VCALENDAR
