BEGIN:VCALENDAR
VERSION:2.0
PRODID:-//LEO Network//Training Calendar//EN
BEGIN:VEVENT
UID:event-2877@leo-network.com
DTSTAMP:20260421T030700Z
DTSTART:20231108T160000Z
DTEND:20231109T010000Z
SUMMARY:Advanced Traffic Stops
DESCRIPTION:Law Enforcement Training
Hosted by: Blue to Gold Training

View event details:
https://www.leo-network.com/event/advanced-traffic-stops-williamston-sc-2877/
LOCATION:Williamston, SC
URL:https://www.leo-network.com/event/advanced-traffic-stops-williamston-sc-2877/
END:VEVENT
END:VCALENDAR
