BEGIN:VCALENDAR
VERSION:2.0
PRODID:-//LEO Network//Training Calendar//EN
BEGIN:VEVENT
UID:event-2878@leo-network.com
DTSTAMP:20260421T030956Z
DTSTART:20231109T160000Z
DTEND:20231110T010000Z
SUMMARY:Bulletproof Report Writing
DESCRIPTION:Law Enforcement Training
Hosted by: Blue to Gold Training

View event details:
https://www.leo-network.com/event/bulletproof-report-writing-williamston-sc-2878/
LOCATION:Williamston, SC
URL:https://www.leo-network.com/event/bulletproof-report-writing-williamston-sc-2878/
END:VEVENT
END:VCALENDAR
