BEGIN:VCALENDAR
VERSION:2.0
PRODID:-//LEO Network//Training Calendar//EN
BEGIN:VEVENT
UID:event-288@leo-network.com
DTSTAMP:20260424T104433Z
DTSTART:20230327T150000Z
DTEND:20230331T000000Z
SUMMARY:Police Social Media Boot Camp
DESCRIPTION:Law Enforcement Training
Hosted by: Training Provider

View event details:
https://www.leo-network.com/event/police-social-media-boot-camp-isle-of-palms-sc-288/
LOCATION:Isle Of Palms, SC
URL:https://www.leo-network.com/event/police-social-media-boot-camp-isle-of-palms-sc-288/
END:VEVENT
END:VCALENDAR
