BEGIN:VCALENDAR
VERSION:2.0
PRODID:-//LEO Network//Training Calendar//EN
BEGIN:VEVENT
UID:event-2892@leo-network.com
DTSTAMP:20260421T153904Z
DTSTART:20231128T160000Z
DTEND:20231129T010000Z
SUMMARY:Advanced Search & Seizure
DESCRIPTION:Law Enforcement Training
Hosted by: Blue to Gold Training

View event details:
https://www.leo-network.com/event/advanced-search-seizure-eddystone-pa-2892/
LOCATION:Eddystone, PA
URL:https://www.leo-network.com/event/advanced-search-seizure-eddystone-pa-2892/
END:VEVENT
END:VCALENDAR
