BEGIN:VCALENDAR
VERSION:2.0
PRODID:-//LEO Network//Training Calendar//EN
BEGIN:VEVENT
UID:event-2893@leo-network.com
DTSTAMP:20260421T152558Z
DTSTART:20231129T160000Z
DTEND:20231130T010000Z
SUMMARY:Advanced Traffic Stops
DESCRIPTION:Law Enforcement Training
Hosted by: Blue to Gold Training

View event details:
https://www.leo-network.com/event/advanced-traffic-stops-eddystone-pa-2893/
LOCATION:Eddystone, PA
URL:https://www.leo-network.com/event/advanced-traffic-stops-eddystone-pa-2893/
END:VEVENT
END:VCALENDAR
