BEGIN:VCALENDAR
VERSION:2.0
PRODID:-//LEO Network//Training Calendar//EN
BEGIN:VEVENT
UID:event-2894@leo-network.com
DTSTAMP:20260421T152629Z
DTSTART:20231130T160000Z
DTEND:20231201T010000Z
SUMMARY:Advanced Criminal Investigations
DESCRIPTION:Law Enforcement Training
Hosted by: Blue to Gold Training

View event details:
https://www.leo-network.com/event/advanced-criminal-investigations-eddystone-pa-2894/
LOCATION:Eddystone, PA
URL:https://www.leo-network.com/event/advanced-criminal-investigations-eddystone-pa-2894/
END:VEVENT
END:VCALENDAR
