BEGIN:VCALENDAR
VERSION:2.0
PRODID:-//LEO Network//Training Calendar//EN
BEGIN:VEVENT
UID:event-2957@leo-network.com
DTSTAMP:20260421T161003Z
DTSTART:20231002T150000Z
DTEND:20231006T000000Z
SUMMARY:Command Series Level 1: Developing First Line Supervisors
DESCRIPTION:Law Enforcement Training
Hosted by: J Harris Academy of Police Training

View event details:
https://www.leo-network.com/event/command-series-level-1-developing-first-line-supervisors-southington-ct-2957/
LOCATION:Southington, CT
URL:https://www.leo-network.com/event/command-series-level-1-developing-first-line-supervisors-southington-ct-2957/
END:VEVENT
END:VCALENDAR
