BEGIN:VCALENDAR
VERSION:2.0
PRODID:-//LEO Network//Training Calendar//EN
BEGIN:VEVENT
UID:event-2960@leo-network.com
DTSTAMP:20260421T031331Z
DTSTART:20240319T150000Z
DTEND:20240322T000000Z
SUMMARY:Female Officer Survival School (FOSS)
DESCRIPTION:Law Enforcement Training
Hosted by: Fortis Tactical Systems

View event details:
https://www.leo-network.com/event/female-officer-survival-school-foss-laurens-sc-2960/
LOCATION:Laurens, SC
URL:https://www.leo-network.com/event/female-officer-survival-school-foss-laurens-sc-2960/
END:VEVENT
END:VCALENDAR
