BEGIN:VCALENDAR
VERSION:2.0
PRODID:-//LEO Network//Training Calendar//EN
BEGIN:VEVENT
UID:event-2978@leo-network.com
DTSTAMP:20260421T210306Z
DTSTART:20230920T150000Z
DTEND:20230921T000000Z
SUMMARY:Death Investigations: Overview of Cause & Manner of Death
DESCRIPTION:Law Enforcement Training
Hosted by: Spector Criminal Justice Training Network, Inc.

View event details:
https://www.leo-network.com/event/death-investigations-overview-of-cause-manner-of-death-east-hartford-ct-2978/
LOCATION:East Hartford, CT
URL:https://www.leo-network.com/event/death-investigations-overview-of-cause-manner-of-death-east-hartford-ct-2978/
END:VEVENT
END:VCALENDAR
