BEGIN:VCALENDAR
VERSION:2.0
PRODID:-//LEO Network//Training Calendar//EN
BEGIN:VEVENT
UID:event-3072@leo-network.com
DTSTAMP:20260424T013753Z
DTSTART:20231026T150000Z
DTEND:20231027T000000Z
SUMMARY:Caught on Camera: LE Viral Video Survival
DESCRIPTION:Law Enforcement Training
Hosted by: J Harris Academy of Police Training

View event details:
https://www.leo-network.com/event/caught-on-camera-le-viral-video-survival-hobbs-nm-3072/
LOCATION:Hobbs, NM
URL:https://www.leo-network.com/event/caught-on-camera-le-viral-video-survival-hobbs-nm-3072/
END:VEVENT
END:VCALENDAR
