BEGIN:VCALENDAR
VERSION:2.0
PRODID:-//LEO Network//Training Calendar//EN
BEGIN:VEVENT
UID:event-3073@leo-network.com
DTSTAMP:20260424T013653Z
DTSTART:20231023T150000Z
DTEND:20231025T000000Z
SUMMARY:Command Series Level 2: Developing Middle Managers
DESCRIPTION:Law Enforcement Training
Hosted by: J Harris Academy of Police Training

View event details:
https://www.leo-network.com/event/command-series-level-2-developing-middle-managers-hobbs-nm-3073/
LOCATION:Hobbs, NM
URL:https://www.leo-network.com/event/command-series-level-2-developing-middle-managers-hobbs-nm-3073/
END:VEVENT
END:VCALENDAR
