BEGIN:VCALENDAR
VERSION:2.0
PRODID:-//LEO Network//Training Calendar//EN
BEGIN:VEVENT
UID:event-3082@leo-network.com
DTSTAMP:20260423T100541Z
DTSTART:20240408T150000Z
DTEND:20240410T000000Z
SUMMARY:911 Homicide: Is the caller the Killer?
DESCRIPTION:Law Enforcement Training
Hosted by: Saint Albans Police Department

View event details:
https://www.leo-network.com/event/911-homicide-is-the-caller-the-killer-saint-albans-wv-3082/
LOCATION:Saint Albans, WV
URL:https://www.leo-network.com/event/911-homicide-is-the-caller-the-killer-saint-albans-wv-3082/
END:VEVENT
END:VCALENDAR
