BEGIN:VCALENDAR
VERSION:2.0
PRODID:-//LEO Network//Training Calendar//EN
BEGIN:VEVENT
UID:event-3083@leo-network.com
DTSTAMP:20260423T100509Z
DTSTART:20240529T150000Z
DTEND:20240601T000000Z
SUMMARY:Aquatic Abuse, Death, and Homicide Investigations
DESCRIPTION:Law Enforcement Training
Hosted by: Saint Albans Police Department

View event details:
https://www.leo-network.com/event/aquatic-abuse-death-and-homicide-investigations-saint-albans-wv-3083/
LOCATION:Saint Albans, WV
URL:https://www.leo-network.com/event/aquatic-abuse-death-and-homicide-investigations-saint-albans-wv-3083/
END:VEVENT
END:VCALENDAR
