BEGIN:VCALENDAR
VERSION:2.0
PRODID:-//LEO Network//Training Calendar//EN
BEGIN:VEVENT
UID:event-3086@leo-network.com
DTSTAMP:20260422T172943Z
DTSTART:20240318T150000Z
DTEND:20240323T000000Z
SUMMARY:SPEAR System®: Instructor Certification
DESCRIPTION:Law Enforcement Training
Hosted by: BTS Inc.

View event details:
https://www.leo-network.com/event/spear-system-instructor-certification-oklahoma-city-ok-3086/
LOCATION:Oklahoma City, OK
URL:https://www.leo-network.com/event/spear-system-instructor-certification-oklahoma-city-ok-3086/
END:VEVENT
END:VCALENDAR
