BEGIN:VCALENDAR
VERSION:2.0
PRODID:-//LEO Network//Training Calendar//EN
BEGIN:VEVENT
UID:event-3087@leo-network.com
DTSTAMP:20260421T202457Z
DTSTART:20231116T160000Z
DTEND:20231117T010000Z
SUMMARY:Death Scene Protocol for First Responders and Detectives
DESCRIPTION:Law Enforcement Training
Hosted by: Spector Criminal Justice Training Network, Inc.

View event details:
https://www.leo-network.com/event/death-scene-protocol-for-first-responders-and-detectives-fairfield-ct-3087/
LOCATION:Fairfield, CT
URL:https://www.leo-network.com/event/death-scene-protocol-for-first-responders-and-detectives-fairfield-ct-3087/
END:VEVENT
END:VCALENDAR
