BEGIN:VCALENDAR
VERSION:2.0
PRODID:-//LEO Network//Training Calendar//EN
BEGIN:VEVENT
UID:event-3088@leo-network.com
DTSTAMP:20260424T013825Z
DTSTART:20230914T150000Z
DTEND:20230915T000000Z
SUMMARY:Patrol Response to Critical Incident
DESCRIPTION:Law Enforcement Training
Hosted by: Bloodgood Law Enforcement Training Group 

View event details:
https://www.leo-network.com/event/patrol-response-to-critical-incident-jersey-city-nj-3088/
LOCATION:Jersey City, NJ
URL:https://www.leo-network.com/event/patrol-response-to-critical-incident-jersey-city-nj-3088/
END:VEVENT
END:VCALENDAR
