BEGIN:VCALENDAR
VERSION:2.0
PRODID:-//LEO Network//Training Calendar//EN
BEGIN:VEVENT
UID:event-3094@leo-network.com
DTSTAMP:20260421T210152Z
DTSTART:20240229T160000Z
DTEND:20240301T010000Z
SUMMARY:DEATH SCENE PROTOCOL FOR FIRST RESPONDERS AND DETECTIVES
DESCRIPTION:Law Enforcement Training
Hosted by: Spector Criminal Justice Training Network, Inc.

View event details:
https://www.leo-network.com/event/death-scene-protocol-for-first-responders-and-detectives-danbury-ct-3094/
LOCATION:Danbury, CT
URL:https://www.leo-network.com/event/death-scene-protocol-for-first-responders-and-detectives-danbury-ct-3094/
END:VEVENT
END:VCALENDAR
