BEGIN:VCALENDAR
VERSION:2.0
PRODID:-//LEO Network//Training Calendar//EN
BEGIN:VEVENT
UID:event-3108@leo-network.com
DTSTAMP:20260420T203443Z
DTSTART:20240314T150000Z
DTEND:20240315T000000Z
SUMMARY:The Complete Female Cop
DESCRIPTION:Law Enforcement Training
Hosted by: Street Cop Training

View event details:
https://www.leo-network.com/event/the-complete-female-cop-rockville-md-3108/
LOCATION:Rockville, MD
URL:https://www.leo-network.com/event/the-complete-female-cop-rockville-md-3108/
END:VEVENT
END:VCALENDAR
