BEGIN:VCALENDAR
VERSION:2.0
PRODID:-//LEO Network//Training Calendar//EN
BEGIN:VEVENT
UID:event-314@leo-network.com
DTSTAMP:20260422T155434Z
DTSTART:20230118T160000Z
DTEND:20230120T010000Z
SUMMARY:Law Enforcement Shotgun Armorer Course
DESCRIPTION:Law Enforcement Training
Hosted by: Training Provider

View event details:
https://www.leo-network.com/event/law-enforcement-shotgun-armorer-course-wichita-ks-314/
LOCATION:Wichita, KS
URL:https://www.leo-network.com/event/law-enforcement-shotgun-armorer-course-wichita-ks-314/
END:VEVENT
END:VCALENDAR
