BEGIN:VCALENDAR
VERSION:2.0
PRODID:-//LEO Network//Training Calendar//EN
BEGIN:VEVENT
UID:event-316@leo-network.com
DTSTAMP:20260422T102145Z
DTSTART:20230320T150000Z
DTEND:20230321T000000Z
SUMMARY:Bolt Action Sniper Rifle Armorer Course
DESCRIPTION:Law Enforcement Training
Hosted by: Training Provider

View event details:
https://www.leo-network.com/event/bolt-action-sniper-rifle-armorer-course-dickinson-nd-316/
LOCATION:Dickinson, ND
URL:https://www.leo-network.com/event/bolt-action-sniper-rifle-armorer-course-dickinson-nd-316/
END:VEVENT
END:VCALENDAR
