BEGIN:VCALENDAR
VERSION:2.0
PRODID:-//LEO Network//Training Calendar//EN
BEGIN:VEVENT
UID:event-3160@leo-network.com
DTSTAMP:20260422T161444Z
DTSTART:20240417T150000Z
DTEND:20240418T000000Z
SUMMARY:Missouri Case Law That All Cops Need To Know
DESCRIPTION:Law Enforcement Training
Hosted by: Street Cop Training

View event details:
https://www.leo-network.com/event/missouri-case-law-that-all-cops-need-to-know-harrisonville-mo-3160/
LOCATION:Harrisonville, MO
URL:https://www.leo-network.com/event/missouri-case-law-that-all-cops-need-to-know-harrisonville-mo-3160/
END:VEVENT
END:VCALENDAR
