BEGIN:VCALENDAR
VERSION:2.0
PRODID:-//LEO Network//Training Calendar//EN
BEGIN:VEVENT
UID:event-3162@leo-network.com
DTSTAMP:20260424T183729Z
DTSTART:20240410T150000Z
DTEND:20240411T000000Z
SUMMARY:California Case Law That All Cops Need To Know
DESCRIPTION:Law Enforcement Training
Hosted by: Street Cop Training

View event details:
https://www.leo-network.com/event/california-case-law-that-all-cops-need-to-know-costa-mesa-ca-3162/
LOCATION:Costa Mesa, CA
URL:https://www.leo-network.com/event/california-case-law-that-all-cops-need-to-know-costa-mesa-ca-3162/
END:VEVENT
END:VCALENDAR
