BEGIN:VCALENDAR
VERSION:2.0
PRODID:-//LEO Network//Training Calendar//EN
BEGIN:VEVENT
UID:event-3168@leo-network.com
DTSTAMP:20260422T173023Z
DTSTART:20240110T160000Z
DTEND:20240111T010000Z
SUMMARY:Oklahoma Case Law That All Cops Need To Know
DESCRIPTION:Law Enforcement Training
Hosted by: Street Cop Training

View event details:
https://www.leo-network.com/event/oklahoma-case-law-that-all-cops-need-to-know-tahlequah-ok-3168/
LOCATION:Tahlequah, OK
URL:https://www.leo-network.com/event/oklahoma-case-law-that-all-cops-need-to-know-tahlequah-ok-3168/
END:VEVENT
END:VCALENDAR
